BEGIN:VCALENDAR
VERSION:2.0
PRODID:-//ChamberMaster//Event Calendar 2.0//EN
METHOD:PUBLISH
X-PUBLISHED-TTL:P3D
REFRESH-INTERVAL:P3D
CALSCALE:GREGORIAN
BEGIN:VEVENT
DTSTART:20180321T220000Z
DTEND:20180322T020000Z
X-MICROSOFT-CDO-ALLDAYEVENT:FALSE
SUMMARY:Old Vines: Wine And Cribbage Night
DESCRIPTION:$20 entrance fee includes one free beverage.Winner takes home $100 cash AND $100 gift card. 2nd place $50 gift card.
X-ALT-DESC;FMTTYPE=text/html:$20 entrance fee includes one free beverage.Winner takes home $100 cash AND $100 gift card. 2nd place $50 gift card.
LOCATION:Old Vines Wine Bar
UID:e.1923.8697
SEQUENCE:3
DTSTAMP:20260425T182945Z
URL:https://chamber.gokennebunks.com/events/details/old-vines-wine-and-cribbage-night-8697
END:VEVENT

END:VCALENDAR
