BEGIN:VCALENDAR
VERSION:2.0
PRODID:-//ChamberMaster//Event Calendar 2.0//EN
METHOD:PUBLISH
X-PUBLISHED-TTL:P3D
REFRESH-INTERVAL:P3D
CALSCALE:GREGORIAN
BEGIN:VEVENT
DTSTART:20180317T220000Z
DTEND:20180318T040000Z
X-MICROSOFT-CDO-ALLDAYEVENT:FALSE
SUMMARY:Old Vines St Patricks Day Party
DESCRIPTION:St Patricks Day food and beverage specials. Live music by Paul Chase Jr. The return of our Luck Of The Irish Wheel Of Fortune.
X-ALT-DESC;FMTTYPE=text/html:St Patricks Day food and beverage specials. Live music by Paul Chase Jr. The return of our Luck Of The Irish Wheel Of Fortune.
LOCATION:Old Vines Wine Bar
UID:e.1923.8696
SEQUENCE:3
DTSTAMP:20260425T182957Z
URL:https://chamber.gokennebunks.com/events/details/old-vines-st-patricks-day-party-8696
END:VEVENT

END:VCALENDAR
