BEGIN:VCALENDAR
VERSION:2.0
PRODID:-//ChamberMaster//Event Calendar 2.0//EN
METHOD:PUBLISH
X-PUBLISHED-TTL:P3D
REFRESH-INTERVAL:P3D
CALSCALE:GREGORIAN
BEGIN:VEVENT
DTSTART:20220712T140000Z
DTEND:20220712T150000Z
X-MICROSOFT-CDO-ALLDAYEVENT:FALSE
SUMMARY:Ocean Wonders Watercolor Class
DESCRIPTION:Local artist Piper Castle will lead an ocean themed watercolor class outside the library. All supplies will be provided. Please bring a towel and sunscreen. Registration is required and the class is limited to 12 registrants. Ages: 6 and up.
X-ALT-DESC;FMTTYPE=text/html:Local artist Piper Castle will lead an ocean themed watercolor class outside the library. All supplies will be provided. Please bring a towel and sunscreen. Registration is required and the class is limited to 12 registrants. Ages: 6 and up.
LOCATION:Louis T. Graves Memorial Public Library 18 Maine Street\, Kennebunkport
UID:e.1923.17511
SEQUENCE:3
DTSTAMP:20260419T175412Z
URL:https://chamber.gokennebunks.com/events/details/ocean-wonders-watercolor-class-17511
END:VEVENT

END:VCALENDAR
