BEGIN:VCALENDAR
VERSION:2.0
PRODID:-//ChamberMaster//Event Calendar 2.0//EN
METHOD:PUBLISH
X-PUBLISHED-TTL:P3D
REFRESH-INTERVAL:P3D
CALSCALE:GREGORIAN
BEGIN:VEVENT
DTSTART:20220720T140000Z
DTEND:20220720T150000Z
X-MICROSOFT-CDO-ALLDAYEVENT:FALSE
SUMMARY:Ocean Tales Storytime
DESCRIPTION:Featuring books by the late beloved local author Tony Viehmann\, with readings by his granddaughters Kiera and Madison. Make a whale crown\, too! All ages are welcome.
X-ALT-DESC;FMTTYPE=text/html:Featuring books by the late beloved local author Tony Viehmann\, with readings by his granddaughters Kiera and Madison. Make a whale crown\, too! All ages are welcome.
LOCATION:Louis T. Graves Memorial Public Library 18 Maine Street\, Kennebunkport
UID:e.1923.17516
SEQUENCE:3
DTSTAMP:20260419T191934Z
URL:https://chamber.gokennebunks.com/events/details/ocean-tales-storytime-17516
END:VEVENT

END:VCALENDAR
