BEGIN:VCALENDAR
VERSION:2.0
PRODID:-//ChamberMaster//Event Calendar 2.0//EN
METHOD:PUBLISH
X-PUBLISHED-TTL:P3D
REFRESH-INTERVAL:P3D
CALSCALE:GREGORIAN
BEGIN:VEVENT
DTSTART;VALUE=DATE:20250523
DTEND;VALUE=DATE:20250524
TRANSP:TRANSPARENT
X-MICROSOFT-CDO-ALLDAYEVENT:TRUE
SUMMARY:Ocean Community Day at Oak's Neck\, Gooch's beach
DESCRIPTION:We will meet at Oaks Neck and spend our day at the beach! Join us to explore tide pools and have a scavenger hunt. We will learn about plovers\, dunes and other elements of coastal habitats. We'll learn sea life facts through fun activities. This day is open to all families with children ages 4-14. Sign up at www.schoolaroundus.org/cdays\n\n\n\n*Please note that in case of inclement weather\, we will meet at SAU and explore our ocean theme at the school.
X-ALT-DESC;FMTTYPE=text/html:<span style="color:rgb(0\, 0\, 0)\; font-family:poppins\; font-size:16px">We will meet at Oaks Neck and spend our day at the beach! Join us to explore tide pools and have a scavenger hunt. We will learn about plovers\, dunes and other elements of coastal habitats. We&rsquo\;ll learn sea life facts through fun activities. This day is open to all families with children ages 4-14. Sign up at www.schoolaroundus.org/cdays</span><br />\n<br />\n<span style="color:rgb(0\, 0\, 0)\; font-family:poppins\; font-size:16px">*Please note that in case of inclement weather\, we will meet at SAU and explore our ocean theme at the school.&nbsp\;</span>
LOCATION:Oak's Neck at Gooch's Beach in Kennebunk\, Maine
UID:e.1923.34906
SEQUENCE:3
DTSTAMP:20260421T045934Z
URL:https://chamber.gokennebunks.com/events/details/ocean-community-day-at-oak-s-neck-gooch-s-beach-34906
END:VEVENT

END:VCALENDAR
