BEGIN:VCALENDAR
VERSION:2.0
PRODID:-//ChamberMaster//Event Calendar 2.0//EN
METHOD:PUBLISH
X-PUBLISHED-TTL:P3D
REFRESH-INTERVAL:P3D
CALSCALE:GREGORIAN
BEGIN:VEVENT
DTSTART:20180411T220000Z
DTEND:20180412T010000Z
X-MICROSOFT-CDO-ALLDAYEVENT:FALSE
SUMMARY:Ocean Ave Trio with Lisa Mills Live!
DESCRIPTION:The incomparable Lisa Mills and the Ocean Ave band are back for two performances - April 11! Don't miss the show!
X-ALT-DESC;FMTTYPE=text/html:The incomparable Lisa Mills and the Ocean Ave band are back for two performances - April 11! Don&#39\;t miss the show!
LOCATION:Old Vines Wine Bar
UID:e.1923.8699
SEQUENCE:3
DTSTAMP:20260425T172218Z
URL:https://chamber.gokennebunks.com/events/details/ocean-ave-trio-with-lisa-mills-live-8699
END:VEVENT

END:VCALENDAR
