BEGIN:VCALENDAR
VERSION:2.0
PRODID:-//ChamberMaster//Event Calendar 2.0//EN
METHOD:PUBLISH
X-PUBLISHED-TTL:P3D
REFRESH-INTERVAL:P3D
CALSCALE:GREGORIAN
BEGIN:VEVENT
DTSTART:20180722T000000Z
DTEND:20180722T020000Z
X-MICROSOFT-CDO-ALLDAYEVENT:FALSE
SUMMARY:O Sole Trio
DESCRIPTION:O Sole Trio?s show\, Bravissimo Broadway\, combines classic show tunes from the most beloved Broadway musicals\, with their own breathtaking and unique arrangements.\n\nThe performance includes highlights from shows such as Les Misérables\, West Side Story\, and Phantom of the Opera\, mixed with outstanding original arrangements\, such as the hauntingly beautiful Edelweiss from The Sound of Music\, in three-part harmony\, and a gorgeous ?mash-up? of Ghost: the Musical?s ?With You? with Ghost: the Movie?s ?Unchained Melody?.
X-ALT-DESC;FMTTYPE=text/html:O Sole Trio?s show\, Bravissimo Broadway\, combines classic show tunes from the most beloved Broadway musicals\, with their own breathtaking and unique arrangements.\n\nThe performance includes highlights from shows such as Les Misérables\, West Side Story\, and Phantom of the Opera\, mixed with outstanding original arrangements\, such as the hauntingly beautiful Edelweiss from The Sound of Music\, in three-part harmony\, and a gorgeous ?mash-up? of Ghost: the Musical?s ?With You? with Ghost: the Movie?s ?Unchained Melody?.
LOCATION:Vinegar Hill Music Theatre 53 Old Post Rd. Arundel\, ME 04046
UID:e.1923.7172
SEQUENCE:3
DTSTAMP:20260425T143124Z
URL:https://chamber.gokennebunks.com/events/details/o-sole-trio-7172
END:VEVENT

END:VCALENDAR
