BEGIN:VCALENDAR
VERSION:2.0
PRODID:-//ChamberMaster//Event Calendar 2.0//EN
METHOD:PUBLISH
X-PUBLISHED-TTL:P3D
REFRESH-INTERVAL:P3D
CALSCALE:GREGORIAN
BEGIN:VEVENT
DTSTART:20231231T154500Z
DTEND:20231231T164500Z
X-MICROSOFT-CDO-ALLDAYEVENT:FALSE
SUMMARY:NYE blackout flow + toast
DESCRIPTION:10:45A black light class\, 11:45A champagne toast - top hits of 2023 - join us for this last class of 2023. wear your white or neon because we'll have black light in the studio for you to flow to with all the best hits of 2023 playing. Stay after the last class of the day to ring in the new year a little early with a champagne toast (for those 21+) or a glass of NA bubbly.
X-ALT-DESC;FMTTYPE=text/html:10:45A black light class\, 11:45A champagne toast - top hits of 2023 - join us for this last class of 2023. wear your white or neon because we&rsquo\;ll have black light in the studio for you to flow to with all the best hits of 2023 playing. Stay after the last class of the day to ring in the new year a little early with a champagne toast (for those 21+) or a glass of NA bubbly.
LOCATION:The Daily Sweat Kennebunk 65 Portland Rd Kennebunk\, ME 04043
UID:e.1923.23110
SEQUENCE:3
DTSTAMP:20260421T220720Z
URL:https://chamber.gokennebunks.com/events/details/nye-blackout-flow-toast-23110
END:VEVENT

END:VCALENDAR
