BEGIN:VCALENDAR
VERSION:2.0
PRODID:-//ChamberMaster//Event Calendar 2.0//EN
METHOD:PUBLISH
X-PUBLISHED-TTL:P3D
REFRESH-INTERVAL:P3D
CALSCALE:GREGORIAN
BEGIN:VEVENT
DTSTART:20190511T130000Z
DTEND:20190511T170000Z
X-MICROSOFT-CDO-ALLDAYEVENT:FALSE
SUMMARY:Nvest Annual ShredFest
DESCRIPTION:PROTECT YOUR IDENTITY Come Shred your documents for free with onsite shredding. Hot Digity Dog will be serving food all day. No cost\, all compliments of Nvest Financial Group\, LLC
X-ALT-DESC;FMTTYPE=text/html:PROTECT YOUR IDENTITY Come Shred your documents for free with onsite shredding. Hot Digity Dog will be serving food all day. No cost\, all compliments of Nvest Financial Group\, LLC
LOCATION:69 York Street\, Kennebunk\, ME
UID:e.1923.13132
SEQUENCE:3
DTSTAMP:20260424T222630Z
URL:https://chamber.gokennebunks.com/events/details/nvest-annual-shredfest-13132
END:VEVENT

END:VCALENDAR
