BEGIN:VCALENDAR
VERSION:2.0
PRODID:-//ChamberMaster//Event Calendar 2.0//EN
METHOD:PUBLISH
X-PUBLISHED-TTL:P3D
REFRESH-INTERVAL:P3D
CALSCALE:GREGORIAN
BEGIN:VEVENT
DTSTART:20190616T233000Z
DTEND:20190617T013000Z
X-MICROSOFT-CDO-ALLDAYEVENT:FALSE
SUMMARY:Nubble Lighthouse keepers Square Dance
DESCRIPTION:Nubble Lighthouse Keepers Square Dance Club will hold a summer dance on Sunday evening June 16 from 7:30 pm to 9:30 pm at the Wells Activity Center\, 113 Sanford Road\, Wells Maine. Featured caller will be Red Batesr and cuer will be Harriet Clark. Early rounds are at 7 pm\, air conditioned\, hearing enhanced available. For info call Don at (207) 312-8114 or Esther at (603) 742-0282. Put your dancing on and dance the night away!
X-ALT-DESC;FMTTYPE=text/html:Nubble Lighthouse Keepers Square Dance Club will hold a summer dance on Sunday evening June 16 from 7:30 pm to 9:30 pm at the Wells Activity Center\, 113 Sanford Road\, Wells Maine. Featured caller will be Red Batesr and cuer will be Harriet Clark. Early rounds are at 7 pm\, air conditioned\, hearing enhanced available. For info call Don at (207) 312-8114 or Esther at (603) 742-0282. Put your dancing on and dance the night away!
LOCATION:Wells Activity Center\, 113 Sanford Road\, Wells Maine
UID:e.1923.13264
SEQUENCE:3
DTSTAMP:20260424T195012Z
URL:https://chamber.gokennebunks.com/events/details/nubble-lighthouse-keepers-square-dance-06-16-2019-13264
END:VEVENT

END:VCALENDAR
