BEGIN:VCALENDAR
VERSION:2.0
PRODID:-//ChamberMaster//Event Calendar 2.0//EN
METHOD:PUBLISH
X-PUBLISHED-TTL:P3D
REFRESH-INTERVAL:P3D
CALSCALE:GREGORIAN
BEGIN:VEVENT
DTSTART:20180810T000000Z
DTEND:20180810T023000Z
X-MICROSOFT-CDO-ALLDAYEVENT:FALSE
SUMMARY:NPR's Funniest Storyteller - James Judd
DESCRIPTION:Comedian\, Author and Radio Personality from NPR's Snap Judgment\, James Judd is a former member of The Groundlings in Los Angeles and the New Faces at the Hollywood Improv. As a comedian & comedy writer\, James worked on many projects\, including a critically acclaimed solo show and TV appearances on Star Search & Evening at the Improv.
X-ALT-DESC;FMTTYPE=text/html:Comedian\, Author and Radio Personality from NPR&rsquo\;s Snap Judgment\, James Judd is a former member of The Groundlings in Los Angeles and the New Faces at the Hollywood Improv. As a comedian &amp\; comedy writer\, James worked on many projects\, including a critically acclaimed solo show and TV appearances on Star Search &amp\; Evening at the Improv.
LOCATION:Vinegar Hill Music Theatre 53 Old Post Rd. Arundel\, ME 04046
UID:e.1923.7561
SEQUENCE:3
DTSTAMP:20260425T121038Z
URL:https://chamber.gokennebunks.com/events/details/npr-s-funniest-storyteller-james-judd-7561
END:VEVENT

END:VCALENDAR
