BEGIN:VCALENDAR
VERSION:2.0
PRODID:-//ChamberMaster//Event Calendar 2.0//EN
METHOD:PUBLISH
X-PUBLISHED-TTL:P3D
REFRESH-INTERVAL:P3D
CALSCALE:GREGORIAN
BEGIN:VEVENT
DTSTART:20231001T140000Z
DTEND:20231001T210000Z
X-MICROSOFT-CDO-ALLDAYEVENT:FALSE
SUMMARY:Nourish Maine Road Race - Westbrook
DESCRIPTION:The Northeast Credit Union Foundation announces the Nourish Network Road Race Series for the fall of 2023. These races will be held in Southern Maine\, and in the spirit of advancing the Foundation's mission to enrich and nourish the lives of others\, a portion of the proceeds from each race will benefit a different non-profit with ties to the Pine Tree State. Northeast Credit Union has partnered with the organizers of Rock Row in Westbrook to host the first race in the series on Sunday\, October 1st. Centered around a 26-acre quarry\, The 5K run/walk will start at 10am at Rock Row\; proceeds will support Safe Passage\, a top-rated\, non-profit school in Guatemala City. Safe Passage School\, founded by a Bowdoin College alum and headquartered in New Gloucester\, brings hope\, education\, and opportunity to the children and families trying to make a living around one of the largest landfills in Central America.
X-ALT-DESC;FMTTYPE=text/html:The Northeast Credit Union Foundation announces the Nourish Network Road Race Series for the fall of 2023. These races will be held in Southern Maine\, and in the spirit of advancing the Foundation&rsquo\;s mission to enrich and nourish the lives of others\, a portion of the proceeds from each race will benefit a different non-profit with ties to the Pine Tree State. Northeast Credit Union has partnered with the organizers of Rock Row in Westbrook to host the first race in the series on Sunday\, October 1st. Centered around a 26-acre quarry\, The 5K run/walk will start at 10am at Rock Row\; proceeds will support Safe Passage\, a top-rated\, non-profit school in Guatemala City. Safe Passage School\, founded by a Bowdoin College alum and headquartered in New Gloucester\, brings hope\, education\, and opportunity to the children and families trying to make a living around one of the largest landfills in Central America.
LOCATION:Rock Row Westbrook\, ME
UID:e.1923.22420
SEQUENCE:3
DTSTAMP:20260422T005139Z
URL:https://chamber.gokennebunks.com/events/details/nourish-maine-road-race-westbrook-22420
END:VEVENT

END:VCALENDAR
