BEGIN:VCALENDAR
VERSION:2.0
PRODID:-//ChamberMaster//Event Calendar 2.0//EN
METHOD:PUBLISH
X-PUBLISHED-TTL:P3D
REFRESH-INTERVAL:P3D
CALSCALE:GREGORIAN
BEGIN:VEVENT
DTSTART:20241231T154500Z
DTEND:20241231T164500Z
X-MICROSOFT-CDO-ALLDAYEVENT:FALSE
SUMMARY:New Years Eve flow + toast
DESCRIPTION:10:45A black light class\, 11:45A champagne toast - top hits of 2024 -. wear your white or neon because we'll have black light in the studio for you to flow to with all the best hits of 2024 playing. Stay after the last class of the day to ring in the new year a little early with a champagne toast (for those 21+) or a glass of NA bubbly. this blackout flow will be followed by a candlelight restore class.
X-ALT-DESC;FMTTYPE=text/html:<span style="color:rgb(0\, 0\, 0)\; font-family:arial">10:45A black light class\, 11:45A champagne toast - top hits of 2024 -. wear your white or neon because we&rsquo\;ll have black light in the studio for you to flow to with all the best hits of 2024 playing. Stay after the last class of the day to ring in the new year a little early with a champagne toast (for those 21+) or a glass of NA bubbly. this blackout flow will be followed by a candlelight restore class.</span>
LOCATION:The Daily Sweat 65 Portland Rd Kennebunk\, ME
UID:e.1923.31145
SEQUENCE:3
DTSTAMP:20260421T020421Z
URL:https://chamber.gokennebunks.com/events/details/new-years-eve-flow-toast-31145
END:VEVENT

END:VCALENDAR
