BEGIN:VCALENDAR
VERSION:2.0
PRODID:-//ChamberMaster//Event Calendar 2.0//EN
METHOD:PUBLISH
X-PUBLISHED-TTL:P3D
REFRESH-INTERVAL:P3D
CALSCALE:GREGORIAN
BEGIN:VEVENT
DTSTART:20191231T230000Z
DTEND:20200101T020000Z
X-MICROSOFT-CDO-ALLDAYEVENT:FALSE
SUMMARY:New Years Eve at Pearl Kennebunk
DESCRIPTION:Come enjoy the delicious Pearl Kennebunk menu and exciting NYE specials. Reservations from 6-8:30 can be made by calling the restaurant at 207.204.0860 or by visiting our website. Enjoy one last meal of 2019 before heading off to ring in the New Year!
X-ALT-DESC;FMTTYPE=text/html:Come enjoy the delicious Pearl Kennebunk menu and exciting NYE specials. Reservations from 6-8:30 can be made by calling the restaurant at 207.204.0860 or by visiting our website. Enjoy one last meal of 2019 before heading off to ring in the New Year!
LOCATION:Pearl Kennebunk - Upstairs 27 Western Ave Lower Village\, Kennebunk
UID:e.1923.15588
SEQUENCE:3
DTSTAMP:20260424T113614Z
URL:https://chamber.gokennebunks.com/events/details/new-years-eve-at-pearl-kennebunk-15588
END:VEVENT

END:VCALENDAR
