BEGIN:VCALENDAR
VERSION:2.0
PRODID:-//ChamberMaster//Event Calendar 2.0//EN
METHOD:PUBLISH
X-PUBLISHED-TTL:P3D
REFRESH-INTERVAL:P3D
CALSCALE:GREGORIAN
BEGIN:VEVENT
DTSTART:20250725T210000Z
DTEND:20250725T220000Z
X-MICROSOFT-CDO-ALLDAYEVENT:FALSE
SUMMARY:New Moon Beach Offering
DESCRIPTION:Meet us at Colony Beach in Kennebunkport\, ME to give an offering to Mother Earth\, give thanks\, release the last 28 days and set intentions for the next 28 days. This practice helps to honor our cyclical nature. You are welcome to bring your own offering (must be earth friendly like stones/food/natural fibers) but we will have things to offers. \n\nOptional dip in the ocean if you'd like to be prepared with bathing suit and towel!
X-ALT-DESC;FMTTYPE=text/html:<span style="font-family:arial\,helvetica\,sans-serif"><span style="color:rgb(0\, 0\, 0)">Meet us at Colony Beach in Kennebunkport\, ME to give an offering to Mother Earth\, give thanks\, release the last 28 days and set intentions for the next 28 days. This practice helps to honor our cyclical nature.&nbsp\;</span>You are welcome to bring your own offering (must be earth friendly like stones/food/natural fibers) but we will have things to offers.&nbsp\;<br />\nOptional dip in the ocean if you&rsquo\;d like to be prepared with bathing suit and towel!</span>
LOCATION:Colony Beach in Kennebunkport\, Maine
UID:e.1923.37660
SEQUENCE:3
DTSTAMP:20260421T073150Z
URL:https://chamber.gokennebunks.com/events/details/new-moon-beach-offering-37660
END:VEVENT

END:VCALENDAR
