BEGIN:VCALENDAR
VERSION:2.0
PRODID:-//ChamberMaster//Event Calendar 2.0//EN
METHOD:PUBLISH
X-PUBLISHED-TTL:P3D
REFRESH-INTERVAL:P3D
CALSCALE:GREGORIAN
BEGIN:VEVENT
DTSTART:20231112T170000Z
DTEND:20231112T200000Z
X-MICROSOFT-CDO-ALLDAYEVENT:FALSE
SUMMARY:New England Premier Events Wedding Show
DESCRIPTION:"New England Premier events have been bringing bridal shows\, wedding shows\, women expos\, and girls night out events for over 20 years. Take a look at our vendor directory and reconnect with a vendor you have spoken with\, or if you are looking for photographers\, bakeries\, DJ's\, and many other services that are essential for your wedding planning!"
X-ALT-DESC;FMTTYPE=text/html:<span style="color:rgb(19\, 55\, 100)\; font-family:lora\,sans-serif">&quot\;New England Premier events have been bringing bridal shows\, wedding shows\, women expos\, and girls night out events for over 20 years. Take a look at our vendor directory and reconnect with a vendor you have spoken with\, or if you are looking for photographers\, bakeries\, DJ&rsquo\;s\, and many other services that are essential for your wedding planning!&quot\;</span>
LOCATION:Doubletree Hotel 363 Maine Mall Rd\, Portland\, ME 04106
UID:e.1923.22477
SEQUENCE:3
DTSTAMP:20260421T233010Z
URL:https://chamber.gokennebunks.com/events/details/new-england-premier-events-wedding-show-22477
END:VEVENT

END:VCALENDAR
