BEGIN:VCALENDAR
VERSION:2.0
PRODID:-//ChamberMaster//Event Calendar 2.0//EN
METHOD:PUBLISH
X-PUBLISHED-TTL:P3D
REFRESH-INTERVAL:P3D
CALSCALE:GREGORIAN
BEGIN:VEVENT
DTSTART:20190712T000000Z
DTEND:20190712T013000Z
X-MICROSOFT-CDO-ALLDAYEVENT:FALSE
SUMMARY:"Never Quit\, Never Give Up" with Travis Mills\, Retired US Army Staff Sargent and Recalibrated Warrior
DESCRIPTION:"Never quit\, Never give up." - The Motto Travis lives by. Retired United States Army Staff Sergeant Travis Mills of the 82nd Airborne is a recalibrated warrior\, motivational speaker\, actor\, author and an advocate for veterans and amputees. Despite losing portions of both arms and legs from an IED while on active duty in Afghanistan in 2012\, Travis continues to overcome life's challenges\, breaking physical barriers and defying odds. In September 2013\, Travis and his wife Kelsey founded the Travis Mills Foundation\, a nonprofit organization\, formed to benefit and assist post 9/11 veterans who have been injured in active duty or as a result of their service to our nation. The Travis Mills Group LLC was started shortly after\, where Travis consults with and speaks to companies and organizations nationwide inspiring all to overcome life's challenges and adversity. The ticket includes Travis Mills book "Tough as They Come" and a meet and greet following the show.
X-ALT-DESC;FMTTYPE=text/html:&quot\;Never quit\, Never give up.&quot\; - The Motto Travis lives by. Retired United States Army Staff Sergeant Travis Mills of the 82nd Airborne is a recalibrated warrior\, motivational speaker\, actor\, author and an advocate for veterans and amputees. Despite losing portions of both arms and legs from an IED while on active duty in Afghanistan in 2012\, Travis continues to overcome life&rsquo\;s challenges\, breaking physical barriers and defying odds. In September 2013\, Travis and his wife Kelsey founded the Travis Mills Foundation\, a nonprofit organization\, formed to benefit and assist post 9/11 veterans who have been injured in active duty or as a result of their service to our nation. The Travis Mills Group LLC was started shortly after\, where Travis consults with and speaks to companies and organizations nationwide inspiring all to overcome life&rsquo\;s challenges and adversity. The ticket includes Travis Mills book &quot\;Tough as They Come&quot\; and a meet and greet following the show.
LOCATION:Vinegar Hill Music Theatre 53 Old Post Rd Arundel\, ME 04046
UID:e.1923.13122
SEQUENCE:3
DTSTAMP:20260424T194658Z
URL:https://chamber.gokennebunks.com/events/details/never-quit-never-give-up-with-travis-mills-retired-us-army-staff-sargent-and-recalibrated-warrior-13122
END:VEVENT

END:VCALENDAR
