BEGIN:VCALENDAR
VERSION:2.0
PRODID:-//ChamberMaster//Event Calendar 2.0//EN
METHOD:PUBLISH
X-PUBLISHED-TTL:P3D
REFRESH-INTERVAL:P3D
CALSCALE:GREGORIAN
BEGIN:VEVENT
DTSTART:20240406T230000Z
DTEND:20240407T010000Z
X-MICROSOFT-CDO-ALLDAYEVENT:FALSE
SUMMARY:Neil Berg's 101 Years of Broadway
DESCRIPTION:Following the fantastic audience response to last season's "100 Years of Broadway\," creator Neil Berg returns with an all-new show! "101 Years of Broadway" is a sprawling revue of treasures from the best-loved musicals of all time. A stellar assembly of Broadway's finest performers takes center stage\, delivering electrifying show-stoppers from the musicals that defined their careers. Neil Berg and his accomplished band deliver exquisite arrangements. From the classics to the newest hit shows\, "101 Years of Broadway" is an unforgettable evening of music that will keep Broadway buffs in a state of bliss for weeks to come!
X-ALT-DESC;FMTTYPE=text/html:<p><span style="background-color:transparent\; color:rgb(0\, 0\, 0)\; font-family:trebuchet ms\,sans-serif\; font-size:11pt">Following the fantastic audience response to last season&rsquo\;s &ldquo\;100 Years of Broadway\,&rdquo\; creator Neil Berg returns with an all-new show! &ldquo\;101 Years of Broadway&rdquo\; is a sprawling revue of treasures from the best-loved musicals of all time. A stellar assembly of Broadway&rsquo\;s finest performers takes center stage\, delivering electrifying show-stoppers from the musicals that defined their careers. Neil Berg and his accomplished band deliver exquisite arrangements. From the classics to the newest hit shows\, &ldquo\;101 Years of Broadway&rdquo\; is an unforgettable evening of music that will keep Broadway buffs in a state of bliss for weeks to come!&nbsp\;</span></p>\n
LOCATION:Sanford Performing Arts Center\, 100 Alumni Blvd.\, Sanford
UID:e.1923.22532
SEQUENCE:3
DTSTAMP:20260421T164146Z
URL:https://chamber.gokennebunks.com/events/details/neil-berg-s-101-years-of-broadway-22532
END:VEVENT

END:VCALENDAR
