BEGIN:VCALENDAR
VERSION:2.0
PRODID:-//ChamberMaster//Event Calendar 2.0//EN
METHOD:PUBLISH
X-PUBLISHED-TTL:P3D
REFRESH-INTERVAL:P3D
CALSCALE:GREGORIAN
BEGIN:VEVENT
DTSTART:20250707T120000Z
DTEND:20250710T230000Z
X-MICROSOFT-CDO-ALLDAYEVENT:FALSE
SUMMARY:Nature's Canvas: Unveiled Art Auction
DESCRIPTION:Join Kennebunk Land Trust and local artists to show off the beauty of Kennebunk.\n\nKennebunk Land Trust is hosting an online art auction featuring over 20 artists with over 70 pieces depicting nature and our special landscapes of Kennebunk.\n\nDon't miss out on the chance to take nature home with you!\n\nAll proceeds directly benefit KLT and the artists.\n\nThe auction closes on July 10th.
X-ALT-DESC;FMTTYPE=text/html:<p><span style="font-size:26px"><strong>Join Kennebunk Land Trust and local artists to show off the beauty of Kennebunk.</strong></span></p>\n\n<p><span style="font-size:20px">Kennebunk Land Trust is hosting an online art auction featuring over 20 artists with over 70 pieces depicting nature and our special landscapes of Kennebunk.</span></p>\n\n<p><span style="font-size:20px">Don&#39\;t miss out on the chance to take nature home with you!</span></p>\n\n<p><span style="font-size:20px">All proceeds directly benefit KLT and the artists.</span></p>\n\n<p><span style="font-size:20px">The auction closes on July 10th.</span></p>\n
LOCATION:Online at www.fundraiser.bid/naturescanvas
UID:e.1923.37639
SEQUENCE:3
DTSTAMP:20260421T074303Z
URL:https://chamber.gokennebunks.com/events/details/nature-s-canvas-unveiled-art-auction-37639
END:VEVENT

END:VCALENDAR
