BEGIN:VCALENDAR
VERSION:2.0
PRODID:-//ChamberMaster//Event Calendar 2.0//EN
METHOD:PUBLISH
X-PUBLISHED-TTL:P3D
REFRESH-INTERVAL:P3D
CALSCALE:GREGORIAN
BEGIN:VEVENT
DTSTART:20250517T140000Z
DTEND:20250517T160000Z
X-MICROSOFT-CDO-ALLDAYEVENT:FALSE
SUMMARY:Nature Journaling for Garden Lovers
DESCRIPTION:Join Maine author/illustrator\, educator\, and naturalist\, Rebekah Lowell\, in a nature journaling workshop to cultivate your curiosity in your garden. We'll learn what nature journaling is\, how it benefits us (and our world)\, then we'll get started by learning some textures and warm ups\, then explore some nature journaling prompts while we wander into nature and around the farm. Bring a journal or notebook and your favorite sketching supplies. This workshop is rain or shine! All ages welcome.
X-ALT-DESC;FMTTYPE=text/html:Join Maine author/illustrator\, educator\, and naturalist\, Rebekah Lowell\, in a nature journaling workshop to cultivate your curiosity in your garden. We&#39\;ll learn what nature journaling is\, how it benefits us (and our world)\, then we&#39\;ll get started by learning some textures and warm ups\, then explore some nature journaling prompts while we wander into nature and around the farm. Bring a journal or notebook and your favorite sketching supplies. This workshop is rain or shine! All ages welcome.
LOCATION:Frinklepod Farm
UID:e.1923.34890
SEQUENCE:3
DTSTAMP:20260421T045839Z
URL:https://chamber.gokennebunks.com/events/details/nature-journaling-for-garden-lovers-34890
END:VEVENT

END:VCALENDAR
