BEGIN:VCALENDAR
VERSION:2.0
PRODID:-//ChamberMaster//Event Calendar 2.0//EN
METHOD:PUBLISH
X-PUBLISHED-TTL:P3D
REFRESH-INTERVAL:P3D
CALSCALE:GREGORIAN
BEGIN:VEVENT
DTSTART:20240203T150000Z
DTEND:20240203T170000Z
X-MICROSOFT-CDO-ALLDAYEVENT:FALSE
SUMMARY:NATIONAL TAKE YOUR CHILD TO THE LIBRARY
DESCRIPTION:Saturday\, February 3 from 10:00-11:00 AM. National Bring Your Child to the Library Day! Join us for donuts\, try the February scavenger hunt\, I Spy Terrarium\, and make a special bookmark. The Louis T. Graves Memorial Public Library is located at 18 Maine Street\, Kennebunkport. For further information\, please call 967-2778 or visit our website at www.graveslibrary.org.
X-ALT-DESC;FMTTYPE=text/html:<span style="font-family:arial\,sans-serif">Saturday\, February 3 from 10:00-11:00 AM. <strong>National Bring Your Child to the Library Day!</strong> Join us for donuts\, try the February scavenger hunt\, I Spy Terrarium\, and make a special bookmark. The Louis T. Graves Memorial Public Library is located at 18 Maine Street\, Kennebunkport. For further information\, please call 967-2778 or visit our website at </span><a href="http://www.graveslibrary.org/"><span style="color:windowtext"><span style="font-family:arial\,sans-serif">www.graveslibrary.org</span></span></a><span style="font-family:arial\,sans-serif">.</span>
LOCATION:The Louis T. Graves Memorial Public Library is located at 18 Maine Street\, Kennebunkport. For further information\, please call 967-2778 or visit our website at www.graveslibrary.org.
UID:e.1923.24177
SEQUENCE:3
DTSTAMP:20260421T204805Z
URL:https://chamber.gokennebunks.com/events/details/national-take-your-child-to-the-library-24177
END:VEVENT

END:VCALENDAR
