BEGIN:VCALENDAR
VERSION:2.0
PRODID:-//ChamberMaster//Event Calendar 2.0//EN
METHOD:PUBLISH
X-PUBLISHED-TTL:P3D
REFRESH-INTERVAL:P3D
CALSCALE:GREGORIAN
BEGIN:VEVENT
DTSTART:20250720T140000Z
DTEND:20250721T030000Z
X-MICROSOFT-CDO-ALLDAYEVENT:FALSE
SUMMARY:national ice cream day: family yoga
DESCRIPTION:join us for a special class on the lawn at scoop deck in Wells. just a short drive from kennebunk\, we think they have some of the best ice cream around with so many flavors to choose from\, it'll make your head spin. enjoy a special after class from our favorite scoopers!
X-ALT-DESC;FMTTYPE=text/html:join us for a special class on the lawn at scoop deck in Wells. just a short drive from kennebunk\, we think they have some of the best ice cream around with so many flavors to choose from\, it&rsquo\;ll make your head spin. enjoy a special after class from our favorite scoopers!
LOCATION:6 Eldridge RD\, Wells ME\, 04090
UID:e.1923.35907
SEQUENCE:3
DTSTAMP:20260421T074542Z
URL:https://chamber.gokennebunks.com/events/details/national-ice-cream-day-family-yoga-07-20-2025-35907
END:VEVENT

END:VCALENDAR
