BEGIN:VCALENDAR
VERSION:2.0
PRODID:-//ChamberMaster//Event Calendar 2.0//EN
METHOD:PUBLISH
X-PUBLISHED-TTL:P3D
REFRESH-INTERVAL:P3D
CALSCALE:GREGORIAN
BEGIN:VEVENT
DTSTART:20220717T140000Z
DTEND:20220717T150000Z
X-MICROSOFT-CDO-ALLDAYEVENT:FALSE
SUMMARY:national ice cream day
DESCRIPTION:join us for a special class from 10-11A on the lawn at scoop deck in Wells. just a short drive from kennebunk\, we think they have some of the best ice cream around with so many flavors to choose from\, it'll make your head spin. enjoy a free cone or discount after class from our favorite scoopers!
X-ALT-DESC;FMTTYPE=text/html:join us for a special class from 10-11A on the lawn at scoop deck in Wells. just a short drive from kennebunk\, we think they have some of the best ice cream around with so many flavors to choose from\, it&rsquo\;ll make your head spin. enjoy a free cone or discount after class from our favorite scoopers!
LOCATION:Scoop Deck in Wells
UID:e.1923.17539
SEQUENCE:3
DTSTAMP:20260419T175704Z
URL:https://chamber.gokennebunks.com/events/details/national-ice-cream-day-07-17-2022-17539
END:VEVENT

END:VCALENDAR
