BEGIN:VCALENDAR
VERSION:2.0
PRODID:-//ChamberMaster//Event Calendar 2.0//EN
METHOD:PUBLISH
X-PUBLISHED-TTL:P3D
REFRESH-INTERVAL:P3D
CALSCALE:GREGORIAN
BEGIN:VEVENT
DTSTART:20170923T140000Z
DTEND:20170924T190000Z
X-MICROSOFT-CDO-ALLDAYEVENT:FALSE
SUMMARY:National Alpaca Farm Days
DESCRIPTION:It's National Alpaca Farm Days!  We'll be open Saturday and Sunday\, Sept 23 & 24\, 10am-3pm both days.  Stop by to feed carrots to the alpacas and learn about these fascinating animals.  It's not too early to start your holiday shopping - our Farm Store will be open.  We are stocked with socks\, hats\, gloves\, mittens and scarves made from fiber grown and processed in the U.S\, along with a small number of items from Peru.  We have yarns from our own alpacas spun at Maine fiber mills\, along with a limited selection of hand knit and hand woven alpaca and other items.  Can't make it?  We are open by chance and by appointment\, or visit our on-line store at www.pamelamas.com.
X-ALT-DESC;FMTTYPE=text/html:<span style="font-size:18px">It&#39\;s National Alpaca Farm Days! &nbsp\;We&#39\;ll be open Saturday and Sunday\, Sept 23 &amp\; 24\, 10am-3pm both days. &nbsp\;Stop by to feed carrots to the alpacas and learn about these fascinating animals.&nbsp\; It&#39\;s not too early to start your holiday shopping - our Farm Store will be open. &nbsp\;We are stocked with socks\, hats\, gloves\, mittens and scarves made from fiber grown and processed in the U.S\, along with a small number of items from Peru. &nbsp\;We have yarns from our own alpacas spun at Maine fiber mills\, along with a limited selection of hand knit and hand woven alpaca and other items. &nbsp\;Can&#39\;t make it? &nbsp\;We are open by chance and by appointment\, or visit our on-line store at www.pamelamas.com. &nbsp\; &nbsp\; &nbsp\;&nbsp\;</span>
LOCATION:Pamelamas Alpaca Farm\, 233 Limerick Rd\, Arundel\, Maine
UID:e.1923.6937
SEQUENCE:3
DTSTAMP:20260426T023002Z
URL:https://chamber.gokennebunks.com/events/details/national-alpaca-farm-days-6937
END:VEVENT

END:VCALENDAR
