BEGIN:VCALENDAR
VERSION:2.0
PRODID:-//ChamberMaster//Event Calendar 2.0//EN
METHOD:PUBLISH
X-PUBLISHED-TTL:P3D
REFRESH-INTERVAL:P3D
CALSCALE:GREGORIAN
BEGIN:VEVENT
DTSTART:20180805T000000Z
DTEND:20180805T023000Z
X-MICROSOFT-CDO-ALLDAYEVENT:FALSE
SUMMARY:My Sinatra with Cary Hoffman
DESCRIPTION:CARY HOFFMAN (Playwright/Actor) is finally achieving his dream with his autobiographical one-man memoir musical\, My Sinatra\, about his Sinatra obsession.
X-ALT-DESC;FMTTYPE=text/html:CARY HOFFMAN (Playwright/Actor) is finally achieving his dream with his autobiographical one-man memoir musical\, My Sinatra\, about his Sinatra obsession.
LOCATION:Vinegar Hill Music Theatre 53 Old Post Rd. Arundel\, ME 04046
UID:e.1923.7560
SEQUENCE:3
DTSTAMP:20260425T115643Z
URL:https://chamber.gokennebunks.com/events/details/my-sinatra-with-cary-hoffman-7560
END:VEVENT

END:VCALENDAR
