BEGIN:VCALENDAR
VERSION:2.0
PRODID:-//ChamberMaster//Event Calendar 2.0//EN
METHOD:PUBLISH
X-PUBLISHED-TTL:P3D
REFRESH-INTERVAL:P3D
CALSCALE:GREGORIAN
BEGIN:VEVENT
DTSTART;VALUE=DATE:20230610
DTEND;VALUE=DATE:20230722
TRANSP:TRANSPARENT
X-MICROSOFT-CDO-ALLDAYEVENT:TRUE
SUMMARY:Musicville- a New Children's Musical
DESCRIPTION:Ages 9 to 14\n\n2 Week Session\n\n$700\n\nJUL 10 to JUL 21\n\nMON THRU FRI\, 9:00A - 4:00P\n\nThis 60-minute\, NEW children's musical takes you on an adventure with Maiden Melody and Radical Rhythm as they attempt to save their town from the Sorcerer of Silence. On their quest to the Castle of Composition\, they pass through the Desert of Doo-wop\, the Ocean of Opera\, and the Terrible Terrain of Tango meeting musical friends and foes along the way. Their journey teaches them about new kinds of music\, overcoming obstacles\, and the importance of working together! Book\, Music\, and Lyrics by Denver Casado and Betina Hershey. Music Arranged by Denver Casado.\n\nPERFORMANCES FOR FAMILIES AND FRIENDS\n\nYork County Community College\n\nFRI JUL 21   10A and 1PM
X-ALT-DESC;FMTTYPE=text/html:<p>Ages 9 to 14<br />\n2 Week Session<br />\n$700</p>\n\n<p>JUL 10 to JUL 21<br />\nMON THRU FRI\, 9:00A - 4:00P</p>\n\n<p>This 60-minute\, NEW children&rsquo\;s musical takes you on an adventure with Maiden Melody and Radical Rhythm as they attempt to save their town from the Sorcerer of Silence. On their quest to the Castle of Composition\, they pass through the Desert of Doo-wop\, the Ocean of Opera\, and the Terrible Terrain of Tango meeting musical friends and foes along the way. Their journey teaches them about new kinds of music\, overcoming obstacles\, and the importance of working together! Book\, Music\, and Lyrics by Denver Casado and Betina Hershey. Music Arranged by Denver Casado.<br />\n<strong>PERFORMANCES FOR FAMILIES AND FRIENDS</strong><br />\n<em>York County Community College</em><br />\n<span style="background-color:rgb(245\, 245\, 245)\; color:rgb(87\, 87\, 87)\; font-family:poppins\; font-size:16px">FRI JUL 21 &mdash\; 10A and 1PM</span></p>\n
LOCATION:Ogunquit Playhouse 10 Main St Ogunquit\, ME 03907
UID:e.1923.18514
SEQUENCE:3
DTSTAMP:20260422T063554Z
URL:https://chamber.gokennebunks.com/events/details/musicville-a-new-children-s-musical-18514
END:VEVENT

END:VCALENDAR
