BEGIN:VCALENDAR
VERSION:2.0
PRODID:-//ChamberMaster//Event Calendar 2.0//EN
METHOD:PUBLISH
X-PUBLISHED-TTL:P3D
REFRESH-INTERVAL:P3D
CALSCALE:GREGORIAN
BEGIN:VEVENT
DTSTART:20230520T210000Z
DTEND:20230521T000000Z
X-MICROSOFT-CDO-ALLDAYEVENT:FALSE
SUMMARY:Music on the Patio at The Burleigh | What the Deck
DESCRIPTION:Join us for music on the Patio at The Burleigh\, Fridays and Saturdays during What the Deck. \n\nFridays 5-8pm\, Willow Carter\n\nSaturdays 5-8pm\, DJ Chad\n\n\n\nWe'll be kicking off What the Deck on May 17th and celebrating the warm weather with outdoor activities\, food\, drinks\, and music until May 29th.\n\n\n\nTo see the full schedule for What the Deck\, click the link below or go to kptdining.com
X-ALT-DESC;FMTTYPE=text/html:<p>Join us for music on the Patio at The Burleigh\, Fridays and Saturdays during What the Deck.&nbsp\;</p>\n\n<p>Fridays 5-8pm\, Willow Carter<br />\nSaturdays 5-8pm\, DJ Chad<br />\n<br />\nWe&#39\;ll be kicking off What the Deck on May 17th and celebrating the warm weather with outdoor activities\, food\, drinks\, and music until May 29th.<br />\n<br />\nTo see the full schedule for What the Deck\, click the link below or go to kptdining.com</p>\n
LOCATION:Kennebunkport Inn One Dock Square Kennebunkport\, ME 04046
UID:e.1923.19156
SEQUENCE:3
DTSTAMP:20260424T101634Z
URL:https://chamber.gokennebunks.com/events/details/music-on-the-patio-at-the-burleigh-what-the-deck-19156
END:VEVENT

END:VCALENDAR
