BEGIN:VCALENDAR
VERSION:2.0
PRODID:-//ChamberMaster//Event Calendar 2.0//EN
METHOD:PUBLISH
X-PUBLISHED-TTL:P3D
REFRESH-INTERVAL:P3D
CALSCALE:GREGORIAN
BEGIN:VEVENT
DTSTART:20180714T040000Z
DTEND:20180714T040000Z
X-MICROSOFT-CDO-ALLDAYEVENT:FALSE
SUMMARY:Museum Lobster Bake
DESCRIPTION:Enjoy a lobster at the Brick Store Museum!\n\nJoin Museum Board President David Moravick and Museum staff at an outdoor lobster bake on the Museum's grounds. Enjoy a fun evening of discussion and merriment. Your ticket purchase proceeds raise much-needed funds for the Museum's educational programs\, which operate year-round.\n\nTickets: $65 per person. \n\nFor more information call 985-4802\, or visit our website at http://www.brickstoremuseum.org/.
X-ALT-DESC;FMTTYPE=text/html:<p>Enjoy a lobster at the Brick Store Museum!</p>\n\n<p>Join Museum Board President David Moravick and Museum staff at an outdoor lobster bake on the Museum&rsquo\;s grounds. Enjoy a fun evening of discussion and merriment. Your ticket purchase proceeds raise much-needed funds for the Museum&rsquo\;s educational programs\, which operate year-round.</p>\n\n<p>Tickets: $65 per person.&nbsp\;</p>\n\n<p>For more information call 985-4802\, or visit our website at&nbsp\;http://www.brickstoremuseum.org/.&nbsp\;</p>\n
LOCATION:Brick Store Museum 117 Main Street Kennebunk\, Maine 04043
UID:e.1923.9951
SEQUENCE:3
DTSTAMP:20260425T132619Z
URL:https://chamber.gokennebunks.com/events/details/museum-lobster-bake-9951
END:VEVENT

END:VCALENDAR
