BEGIN:VCALENDAR
VERSION:2.0
PRODID:-//ChamberMaster//Event Calendar 2.0//EN
METHOD:PUBLISH
X-PUBLISHED-TTL:P3D
REFRESH-INTERVAL:P3D
CALSCALE:GREGORIAN
BEGIN:VEVENT
DTSTART:20190711T220000Z
DTEND:20190711T230000Z
X-MICROSOFT-CDO-ALLDAYEVENT:FALSE
SUMMARY:Museum Lobster Bake
DESCRIPTION:Kick off the "Kennebunk Heritage & Culture Festival" weekend with a lobster bake! Preview the weekend's special exhibition: a haute couture trunk show by Decontie & Brown\, Wabanaki designers from Bar Harbor.
X-ALT-DESC;FMTTYPE=text/html:Kick off the &ldquo\;Kennebunk Heritage &amp\; Culture Festival&rdquo\; weekend with a lobster bake! Preview the weekend&rsquo\;s special exhibition: a haute couture trunk show by Decontie &amp\; Brown\, Wabanaki designers from Bar Harbor.
LOCATION:Brick Store Museum 117 Main Street Kennebunk\, ME 04043
UID:e.1923.13382
SEQUENCE:3
DTSTAMP:20260424T183126Z
URL:https://chamber.gokennebunks.com/events/details/museum-lobster-bake-07-11-2019-13382
END:VEVENT

END:VCALENDAR
