BEGIN:VCALENDAR
VERSION:2.0
PRODID:-//ChamberMaster//Event Calendar 2.0//EN
METHOD:PUBLISH
X-PUBLISHED-TTL:P3D
REFRESH-INTERVAL:P3D
CALSCALE:GREGORIAN
BEGIN:VEVENT
DTSTART:20191213T220000Z
DTEND:20191214T000000Z
X-MICROSOFT-CDO-ALLDAYEVENT:FALSE
SUMMARY:Museum Holiday Art Night
DESCRIPTION:Enjoy access to galleries\, cookies and hot chocolate\, the Mark Alesse photography  exhibition\, and the Holiday Shop on a special night! FREE admission!\n\n\n\nCall 985-4802 or visit www.brickstoremuseum.org for more information.
X-ALT-DESC;FMTTYPE=text/html:Enjoy access to galleries\, cookies and hot chocolate\, the Mark Alesse photography &nbsp\;exhibition\, and the Holiday Shop on a special night! FREE admission!<br />\n<br />\nCall 985-4802 or visit <a href="http://www.brickstoremuseum.org/">www.brickstoremuseum.org</a> for more information.
LOCATION:Brick Store Museum 117 Main Street Kennebunk\, ME 04043
UID:e.1923.15570
SEQUENCE:3
DTSTAMP:20260424T113019Z
URL:https://chamber.gokennebunks.com/events/details/museum-holiday-art-night-15570
END:VEVENT

END:VCALENDAR
