BEGIN:VCALENDAR
VERSION:2.0
PRODID:-//ChamberMaster//Event Calendar 2.0//EN
METHOD:PUBLISH
X-PUBLISHED-TTL:P3D
REFRESH-INTERVAL:P3D
CALSCALE:GREGORIAN
BEGIN:VEVENT
DTSTART:20190704T160000Z
DTEND:20190704T170000Z
X-MICROSOFT-CDO-ALLDAYEVENT:FALSE
SUMMARY:Museum Collections Storage Tour
DESCRIPTION:Tour what?s behind-the-scenes at Kennebunk?s local history museum to discover nearly 70\,000 artifacts belonging to the town?s history. Admission is $12 per person\, or $5 for members! Admission to the Museum is included!
X-ALT-DESC;FMTTYPE=text/html:Tour what?s behind-the-scenes at Kennebunk?s local history museum to discover nearly 70\,000 artifacts belonging to the town?s history. Admission is $12 per person\, or $5 for members! Admission to the Museum is included!
LOCATION:Brick Store Museum 117 Main Street Kennebunk\, ME 04043
UID:e.1923.13354
SEQUENCE:3
DTSTAMP:20260424T194406Z
URL:https://chamber.gokennebunks.com/events/details/museum-collections-storage-tour-13354
END:VEVENT

END:VCALENDAR
