BEGIN:VCALENDAR
VERSION:2.0
PRODID:-//ChamberMaster//Event Calendar 2.0//EN
METHOD:PUBLISH
X-PUBLISHED-TTL:P3D
REFRESH-INTERVAL:P3D
CALSCALE:GREGORIAN
BEGIN:VEVENT
DTSTART;VALUE=DATE:20220710
DTEND;VALUE=DATE:20220711
TRANSP:TRANSPARENT
X-MICROSOFT-CDO-ALLDAYEVENT:TRUE
SUMMARY:Moxie Day at Seashore Trolley Museum
DESCRIPTION:We?ve got Moxie?how ?bout you?! Moxie Day at Seashore has become a tradition over the years. Seashore will be hosting the New England Moxie Congress on Sunday\, July 10th! They will be sharing FREE SAMPLES of Moxie and Diet Moxie with all guests. You?ll also see all kinds of Moxie memorabilia from their personal collections.\n\n \n\nYou can get Moxie in a lot of different places but the merchandise is a little harder to come by. Not at Seashore though! Our Museum Store has lots of Moxie swag available for purchase all season long! So\, if you are looking for a Moxie hat. T-shirt\, sweatshirt or hoodie\, we?ve got you covered.\n\n \n\nSupplies permitting we also plan to sell the real deal Moxie in glass bottles made with 100% pure cane sugar\, in addition to regular Moxie\, in our Museum Store.\n\n \n\nDeveloped in Maine and produced in New Hampshire\, Moxie is ?distinctively different? and legendary in the region. It is feared a bit by those who haven?t tried it because one of its signature ingredients is ?gentian root?. On its own\, it is very bitter. But\, as a finished product\, it is less harsh than a quality ginger ale. So\, if you love it\, come on by and revel in a day set aside for your favorite beverage. If you?ve never had it\, give it a try!
X-ALT-DESC;FMTTYPE=text/html:<div>We?ve got Moxie?how ?bout you?! Moxie Day at Seashore has become a tradition over the years. Seashore will be hosting the New England Moxie Congress on Sunday\, July 10th! They will be sharing FREE SAMPLES of Moxie and Diet Moxie with all guests. You?ll also see all kinds of Moxie memorabilia from their personal collections.</div>\n\n<div>&nbsp\;</div>\n\n<div>You can get Moxie in a lot of different places but the merchandise is a little harder to come by. Not at Seashore though! Our Museum Store has lots of Moxie swag available for purchase all season long! So\, if you are looking for a Moxie hat. T-shirt\, sweatshirt or hoodie\, we?ve got you covered.</div>\n\n<div>&nbsp\;</div>\n\n<div>Supplies permitting we also plan to sell the real deal Moxie in glass bottles made with 100% pure cane sugar\, in addition to regular Moxie\, in our Museum Store.</div>\n\n<div>&nbsp\;</div>\n\n<div>Developed in Maine and produced in New Hampshire\, Moxie is ?distinctively different? and legendary in the region. It is feared a bit by those who haven?t tried it because one of its signature ingredients is ?gentian root?. On its own\, it is very bitter. But\, as a finished product\, it is less harsh than a quality ginger ale. So\, if you love it\, come on by and revel in a day set aside for your favorite beverage. If you?ve never had it\, give it a try!</div>\n
LOCATION:Seashore Trolley Museum 195 Log Cabin Road Kennebunkport\, ME 04046
UID:e.1923.17428
SEQUENCE:3
DTSTAMP:20260419T175756Z
URL:https://chamber.gokennebunks.com/events/details/moxie-day-at-seashore-trolley-museum-17428
END:VEVENT

END:VCALENDAR
