BEGIN:VCALENDAR
VERSION:2.0
PRODID:-//ChamberMaster//Event Calendar 2.0//EN
METHOD:PUBLISH
X-PUBLISHED-TTL:P3D
REFRESH-INTERVAL:P3D
CALSCALE:GREGORIAN
BEGIN:VEVENT
DTSTART:20180715T140000Z
DTEND:20180715T210000Z
X-MICROSOFT-CDO-ALLDAYEVENT:FALSE
SUMMARY:Moxie Day at Seashore Trolley
DESCRIPTION:The Moxie Congress holds its Annual Meeting at Seashore Trolley Museum on this day.  Schmooze about Moxie\, grab a Moxie-infused lunch selection\, shop for Moxie "stuff" in the store\, and enjoy the museum!
X-ALT-DESC;FMTTYPE=text/html:The Moxie Congress holds its Annual Meeting at Seashore Trolley Museum on this day.&nbsp\; Schmooze about Moxie\, grab a Moxie-infused lunch selection\, shop for Moxie &quot\;stuff&quot\; in the store\, and enjoy the museum!
LOCATION:Seashore Trolley Museum\, 195 Log Cabin Rd\, Kennebunkport
UID:e.1923.7214
SEQUENCE:3
DTSTAMP:20260425T132819Z
URL:https://chamber.gokennebunks.com/events/details/moxie-day-at-seashore-trolley-7214
END:VEVENT

END:VCALENDAR
