BEGIN:VCALENDAR
VERSION:2.0
PRODID:-//ChamberMaster//Event Calendar 2.0//EN
METHOD:PUBLISH
X-PUBLISHED-TTL:P3D
REFRESH-INTERVAL:P3D
CALSCALE:GREGORIAN
BEGIN:VEVENT
DTSTART:20240328T224500Z
DTEND:20240329T003000Z
X-MICROSOFT-CDO-ALLDAYEVENT:FALSE
SUMMARY:MOVIE NIGHT
DESCRIPTION:Thursday\, March 28 at 6:45 PM. Monthly Movie Night. Join us for our monthly movie night. All are welcome to attend. Light refreshments will be served. The Louis T. Graves Memorial Public Library is located at 18 Maine Street\, Kennebunkport. For further information\, please call 967-2778 or visit our website at www.graveslibrary.org.
X-ALT-DESC;FMTTYPE=text/html:<span style="font-family:arial\,sans-serif">Thursday\, March 28 at 6:45 PM. <strong>Monthly Movie Night.</strong> Join us for our monthly movie night. All are welcome to attend. Light refreshments will be served. The Louis T. Graves Memorial Public Library is located at 18 Maine Street\, Kennebunkport. For further information\, please call 967-2778 or visit our website at </span><a href="http://www.graveslibrary.org/"><span style="color:windowtext"><span style="font-family:arial\,sans-serif">www.graveslibrary.org</span></span></a><span style="font-family:arial\,sans-serif">.</span>
LOCATION:Louis T. Graves Memorial Public Library\, 18 Maine Street\, Kennebunkport
UID:e.1923.24429
SEQUENCE:3
DTSTAMP:20260421T180609Z
URL:https://chamber.gokennebunks.com/events/details/movie-night-03-28-2024-24429
END:VEVENT

END:VCALENDAR
