BEGIN:VCALENDAR
VERSION:2.0
PRODID:-//ChamberMaster//Event Calendar 2.0//EN
METHOD:PUBLISH
X-PUBLISHED-TTL:P3D
REFRESH-INTERVAL:P3D
CALSCALE:GREGORIAN
BEGIN:VEVENT
DTSTART:20240125T234500Z
DTEND:20240126T013000Z
X-MICROSOFT-CDO-ALLDAYEVENT:FALSE
SUMMARY:MOVIE NIGHT
DESCRIPTION:Thursday\, January 25 at 6:45 PM. Monthly Movie Night. Join us for our monthly movie night. All are welcome to attend. Light refreshments will be served. The Louis T. Graves Memorial Public Library is located at 18 Maine Street\, Kennebunkport. For further information\, please call 967-2778 or visit our website at www.graveslibrary.org.
X-ALT-DESC;FMTTYPE=text/html:<span style="font-family:arial\,sans-serif">Thursday\, January 25 at 6:45 PM. <strong>Monthly Movie Night.</strong> Join us for our monthly movie night. All are welcome to attend. Light refreshments will be served. The Louis T. Graves Memorial Public Library is located at 18 Maine Street\, Kennebunkport. For further information\, please call 967-2778 or visit our website at www.graveslibrary.org.</span>
LOCATION:The Louis T. Graves Memorial Public Library is located at 18 Maine Street\, Kennebunkport. For further information\, please call 967-2778 or visit our website at www.graveslibrary.org.
UID:e.1923.23338
SEQUENCE:3
DTSTAMP:20260421T220939Z
URL:https://chamber.gokennebunks.com/events/details/movie-night-01-25-2024-23338
END:VEVENT

END:VCALENDAR
