BEGIN:VCALENDAR
VERSION:2.0
PRODID:-//ChamberMaster//Event Calendar 2.0//EN
METHOD:PUBLISH
X-PUBLISHED-TTL:P3D
REFRESH-INTERVAL:P3D
CALSCALE:GREGORIAN
BEGIN:VEVENT
DTSTART:20180513T130000Z
DTEND:20180513T210000Z
X-MICROSOFT-CDO-ALLDAYEVENT:FALSE
SUMMARY:Mothers Day Special at Seashore Trolley
DESCRIPTION:Free admission for Moms visiting with their kids
X-ALT-DESC;FMTTYPE=text/html:Free admission for Moms visiting with their kids
LOCATION:Seashore Trolley Museum\, 195 Log Cabin Rd\, Kennebunkport
UID:e.1923.7210
SEQUENCE:3
DTSTAMP:20260425T155158Z
URL:https://chamber.gokennebunks.com/events/details/mothers-day-special-at-seashore-trolley-7210
END:VEVENT

END:VCALENDAR
