BEGIN:VCALENDAR
VERSION:2.0
PRODID:-//ChamberMaster//Event Calendar 2.0//EN
METHOD:PUBLISH
X-PUBLISHED-TTL:P3D
REFRESH-INTERVAL:P3D
CALSCALE:GREGORIAN
BEGIN:VEVENT
DTSTART;VALUE=DATE:20250509
DTEND;VALUE=DATE:20250512
TRANSP:TRANSPARENT
X-MICROSOFT-CDO-ALLDAYEVENT:TRUE
SUMMARY:Mother's Day Weekend Tulip Sale with Wild Aster Farm
DESCRIPTION:Shop local blooms this Mother's Day Weekend at Daytrip Society's Tulip Sale with Wild Aster Farm?? Visit us May 9-11 from 9 AM to 7 PM and pick up a gorgeous tulip bouquet grown right here in Kennebunkport!\n\n\n\nMariah from Wild Aster Farm planted 22\,000 bulbs this year\, including 14 varieties\, some with the most amazing names like Super Parrot\, Charming Beauty\, Affaire\, Spring Break\, Purple Circus\, Exotic Emperor\, and more.\n\n\n\nWe can't wait to see which of these unique varieties you will pick for your home\, your friends\, and of course\, all the amazing moms in your lives.\n\n\n\nWe will have vases\, cards\, and everything you need for the perfect Mother's Day gift at Daytrip Society\, 4 Dock Square in Kennebunkport. Come early for the largest selection of flowers.
X-ALT-DESC;FMTTYPE=text/html:<span style="color:rgb(0\, 0\, 0)\; font-family:-apple-system\,system-ui\,segoe ui\,roboto\,helvetica\,arial\,sans-serif\; font-size:14px">Shop local blooms this Mother&rsquo\;s Day Weekend at Daytrip Society&rsquo\;s Tulip Sale with Wild Aster Farm?? Visit us May 9-11 from 9 AM to 7 PM and pick up a gorgeous tulip bouquet grown right here in Kennebunkport!</span><br />\n<br />\n<span style="color:rgb(0\, 0\, 0)\; font-family:-apple-system\,system-ui\,segoe ui\,roboto\,helvetica\,arial\,sans-serif\; font-size:14px">Mariah from Wild Aster Farm planted 22\,000 bulbs this year\, including 14 varieties\, some with the most amazing names like Super Parrot\, Charming Beauty\, Affaire\, Spring Break\, Purple Circus\, Exotic Emperor\, and more.</span><br />\n<br />\n<span style="color:rgb(0\, 0\, 0)\; font-family:-apple-system\,system-ui\,segoe ui\,roboto\,helvetica\,arial\,sans-serif\; font-size:14px">We can&rsquo\;t wait to see which of these unique varieties you will pick for your home\, your friends\, and of course\, all the amazing moms in your lives.</span><br />\n<br />\n<span style="color:rgb(0\, 0\, 0)\; font-family:-apple-system\,system-ui\,segoe ui\,roboto\,helvetica\,arial\,sans-serif\; font-size:14px">We will have vases\, cards\, and everything you need for the perfect Mother&rsquo\;s Day gift at Daytrip Society\, 4 Dock Square in Kennebunkport. Come early for the largest selection of flowers.</span>
LOCATION:4 Dock Square\, Kennebunkport\, ME
UID:e.1923.34214
SEQUENCE:3
DTSTAMP:20260421T050132Z
URL:https://chamber.gokennebunks.com/events/details/mother-s-day-weekend-tulip-sale-with-wild-aster-farm-34214
END:VEVENT

END:VCALENDAR
