BEGIN:VCALENDAR
VERSION:2.0
PRODID:-//ChamberMaster//Event Calendar 2.0//EN
METHOD:PUBLISH
X-PUBLISHED-TTL:P3D
REFRESH-INTERVAL:P3D
CALSCALE:GREGORIAN
BEGIN:VEVENT
DTSTART:20260510T160000Z
DTEND:20260510T173000Z
X-MICROSOFT-CDO-ALLDAYEVENT:FALSE
SUMMARY:Mother's Day Lobster Bake
DESCRIPTION:Join us at The Lodge on the Cove for an unforgettable Mother's Day celebration with a lobster bake! Set against a stunning backdrop\, this family-friendly event combines delicious dining with fun-filled activities for everyone. Indulge in a traditional Maine lobster bake featuring fresh lobster\, BBQ chicken\, clams\, corn on the cob\, and more\, followed by a delectable Maine blueberry crisp for dessert. Iced tea\, lemonade\, and water available\, with the Dory Bar serving up additional beverages for purchase. After the feast\, kids can immerse themselves in family-friendly activities from outdoor games\, arts & crafts\, s'mores and more! Event Details: ?? Price: $100 per adult\; $45 for children 4-12\; FREE for ages 3 and under (includes tax + gratuity) ?? Kid-Friendly Activities Included: Arts and crafts\, outdoor games\, s'mores\, and more!
X-ALT-DESC;FMTTYPE=text/html:Join us at The Lodge on the Cove for an unforgettable Mother&rsquo\;s Day celebration with a lobster bake! Set against a stunning backdrop\, this family-friendly event combines delicious dining with fun-filled activities for everyone. Indulge in a traditional Maine lobster bake featuring fresh lobster\, BBQ chicken\, clams\, corn on the cob\, and more\, followed by a delectable Maine blueberry crisp for dessert. Iced tea\, lemonade\, and water available\, with the Dory Bar serving up additional beverages for purchase. After the feast\, kids can immerse themselves in family-friendly activities from outdoor games\, arts &amp\; crafts\, s&#39\;mores and more! Event Details: ?? Price: $100 per adult\; $45 for children 4-12\; FREE for ages 3 and under (includes tax + gratuity) ?? Kid-Friendly Activities Included: Arts and crafts\, outdoor games\, s&rsquo\;mores\, and more!
LOCATION:The Lodge on the Cove 29 South Main Street Kennebunkport\, ME 04046
UID:e.1923.38959
SEQUENCE:3
DTSTAMP:20260422T004929Z
URL:https://chamber.gokennebunks.com/events/details/mother-s-day-lobster-bake-38959
END:VEVENT

END:VCALENDAR
