BEGIN:VCALENDAR
VERSION:2.0
PRODID:-//ChamberMaster//Event Calendar 2.0//EN
METHOD:PUBLISH
X-PUBLISHED-TTL:P3D
REFRESH-INTERVAL:P3D
CALSCALE:GREGORIAN
BEGIN:VEVENT
DTSTART:20180513T143000Z
DTEND:20180513T183000Z
X-MICROSOFT-CDO-ALLDAYEVENT:FALSE
SUMMARY:Mother's Day Brunch
DESCRIPTION:Treat that special Mom in your life with a spectacular brunch on Mother's Day. Our brunch is filled with a magnificent selection of culinary delights and live musical entertainment by Carmine Terracciano. Reservations are strongly encouraged for this event. In addition to brunch\, treat Mom to an overnight stay at our Coastal Maine Resort\, a relaxing spa treatment or a day of shopping in Kennebunkport. Show your love and appreciation with our special rate including a water-view room for two for $247 per night with brunch for two included & complimentary 12PM checkout. This year's menu just might be the best we've ever had. Use code: MOM to make your reservations online.
X-ALT-DESC;FMTTYPE=text/html:Treat that special Mom in your life with a spectacular brunch on Mother&rsquo\;s Day. Our brunch is filled with a magnificent selection of culinary delights and live musical entertainment by Carmine Terracciano. Reservations are strongly encouraged for this event. In addition to brunch\, treat Mom to an overnight stay at our Coastal Maine Resort\, a relaxing spa treatment or a day of shopping in Kennebunkport. Show your love and appreciation with our special rate including a water-view room for two for $247 per night with brunch for two included &amp\; complimentary 12PM checkout. This year&rsquo\;s menu just might be the best we&rsquo\;ve ever had. Use code: MOM to make your reservations online.
LOCATION:The Nonantum Resort
UID:e.1923.9793
SEQUENCE:3
DTSTAMP:20260425T154926Z
URL:https://chamber.gokennebunks.com/events/details/mother-s-day-brunch-9793
END:VEVENT

END:VCALENDAR
