BEGIN:VCALENDAR
VERSION:2.0
PRODID:-//ChamberMaster//Event Calendar 2.0//EN
METHOD:PUBLISH
X-PUBLISHED-TTL:P3D
REFRESH-INTERVAL:P3D
CALSCALE:GREGORIAN
BEGIN:VEVENT
DTSTART:20220720T130000Z
DTEND:20220720T140000Z
X-MICROSOFT-CDO-ALLDAYEVENT:FALSE
SUMMARY:Morning Yoga with Kriya Yogi Virginia Williamson
DESCRIPTION:Yogi Virginia Williamson is returning this summer for morning yoga at the Graves! Please call us to sign up for a session. Classes will also be available via Zoom so friends far and wide can join. Virginia Williamson (Ginny) is a Kriya Yogi\, in the lineage of Paramahansa Yogananda\, initiated by Roy Eugene Davis. She has been practicing Yoga for 31 years\; teaching in Southwest Florida for 23 years. She teaches traditional\, 'old-school'\, Classical Yoga\, with emphasis on meditative movements coordinated with the breath. Call us at 967-2778 for more details. If joining virtually\, please give us your email so we can provide you with the Zoom link 24 hours prior to the class. A donation is suggested for this class. Go to our Homepage and Click on the Link to Donate through our Paypal Account. Please specify in Paypal that your donation is for Yoga with Virginia.
X-ALT-DESC;FMTTYPE=text/html:Yogi Virginia Williamson is returning this summer for morning yoga at the Graves! Please call us to sign up for a session. Classes will also be available via Zoom so friends far and wide can join. Virginia Williamson (Ginny) is a Kriya Yogi\, in the lineage of Paramahansa Yogananda\, initiated by Roy Eugene Davis. She has been practicing Yoga for 31 years\; teaching in Southwest Florida for 23 years. She teaches traditional\, &lsquo\;old-school&rsquo\;\, Classical Yoga\, with emphasis on meditative movements coordinated with the breath. Call us at 967-2778 for more details. If joining virtually\, please give us your email so we can provide you with the Zoom link 24 hours prior to the class. A donation is suggested for this class. Go to our Homepage and Click on the Link to Donate through our Paypal Account. Please specify in Paypal that your donation is for Yoga with Virginia.
LOCATION:Louis T. Graves Memorial Public Library 18 Maine Street\, Kennebunkport
UID:e.1923.17509
SEQUENCE:3
DTSTAMP:20260419T180044Z
URL:https://chamber.gokennebunks.com/events/details/morning-yoga-with-kriya-yogi-virginia-williamson-07-20-2022-17509
END:VEVENT

END:VCALENDAR
