BEGIN:VCALENDAR
VERSION:2.0
PRODID:-//ChamberMaster//Event Calendar 2.0//EN
METHOD:PUBLISH
X-PUBLISHED-TTL:P3D
REFRESH-INTERVAL:P3D
CALSCALE:GREGORIAN
BEGIN:VEVENT
DTSTART:20231214T144500Z
DTEND:20231214T153000Z
X-MICROSOFT-CDO-ALLDAYEVENT:FALSE
SUMMARY:MORNING BOOK GROUP
DESCRIPTION:Thursday\, December 14 at 9:45 AM. Morning Book Group. The book The Lioness of Boston by Emily Franklin will be discussed. This group meets on the second Thursday of every month. New members are always welcome. The Louis T. Graves Memorial Public Library is located at 18 Maine Street\, Kennebunkport. For further information\, please call 967-2778 or visit our website at www.graveslibrary.org.
X-ALT-DESC;FMTTYPE=text/html:<span style="font-family:arial\,sans-serif">Thursday\, December 14 at 9:45 AM. <strong>Morning Book Group</strong>. The book <em>The Lioness of Boston</em> by Emily Franklin will be discussed. This group meets on the second Thursday of every month. New members are always welcome. The Louis T. Graves Memorial Public Library is located at 18 Maine Street\, Kennebunkport. For further information\, please call 967-2778 or visit our website at www.graveslibrary.org.</span>
LOCATION:The Louis T. Graves Memorial Public Library is located at 18 Maine Street\, Kennebunkport. For further information\, please call 967-2778 or visit our website at www.graveslibrary.org.
UID:e.1923.23147
SEQUENCE:3
DTSTAMP:20260421T221209Z
URL:https://chamber.gokennebunks.com/events/details/morning-book-group-12-14-2023-23147
END:VEVENT

END:VCALENDAR
