BEGIN:VCALENDAR
VERSION:2.0
PRODID:-//ChamberMaster//Event Calendar 2.0//EN
METHOD:PUBLISH
X-PUBLISHED-TTL:P3D
REFRESH-INTERVAL:P3D
CALSCALE:GREGORIAN
BEGIN:VEVENT
DTSTART:20220714T134500Z
DTEND:20220714T150000Z
X-MICROSOFT-CDO-ALLDAYEVENT:FALSE
SUMMARY:Morning Book Group
DESCRIPTION:This group meets the second Thursday of every month. For July\, the group is reading The Lincoln Highway by Amor Towles. New members are always welcome. The library is located at 18 Maine Street\, Kennebunkport. For further information\, please call 967-2778 or visit our website at http://www.graveslibrary.org.
X-ALT-DESC;FMTTYPE=text/html:This group meets the second Thursday of every month. For July\, the group is reading The Lincoln Highway by Amor Towles. New members are always welcome. The library is located at 18 Maine Street\, Kennebunkport. For further information\, please call 967-2778 or visit our website at http://www.graveslibrary.org.
LOCATION:Louis T. Graves Memorial Public Library 18 Maine Street\, Kennebunkport
UID:e.1923.17512
SEQUENCE:3
DTSTAMP:20260419T191859Z
URL:https://chamber.gokennebunks.com/events/details/morning-book-group-07-14-2022-17512
END:VEVENT

END:VCALENDAR
