BEGIN:VCALENDAR
VERSION:2.0
PRODID:-//ChamberMaster//Event Calendar 2.0//EN
METHOD:PUBLISH
X-PUBLISHED-TTL:P3D
REFRESH-INTERVAL:P3D
CALSCALE:GREGORIAN
BEGIN:VEVENT
DTSTART:20231207T234500Z
DTEND:20231208T013000Z
X-MICROSOFT-CDO-ALLDAYEVENT:FALSE
SUMMARY:MONTHLY MOVIE NIGHT
DESCRIPTION:Thursday\, December 7 at 6:45 PM. Prelude Movie Night. Join us for our monthly movie night. All are welcome to attend. This month we will show a holiday classic with Bing Crosby and Fred Astaire. Light refreshments will be served. The Louis T. Graves Memorial Public Library is located at 18 Maine Street\, Kennebunkport. For further information\, please call 967-2778 or visit our website at www.graveslibrary.org.
X-ALT-DESC;FMTTYPE=text/html:<span style="font-family:arial\,sans-serif">Thursday\, December 7 at 6:45 PM. <strong>Prelude Movie Night</strong>. Join us for our monthly movie night. All are welcome to attend. This month we will show a holiday classic with Bing Crosby and Fred Astaire. Light refreshments will be served. The Louis T. Graves Memorial Public Library is located at 18 Maine Street\, Kennebunkport. For further information\, please call 967-2778 or visit our website at </span><a href="http://www.graveslibrary.org/"><span style="color:windowtext"><span style="font-family:arial\,sans-serif">www.graveslibrary.org</span></span></a><span style="font-family:arial\,sans-serif">.</span>
LOCATION:The Louis T. Graves Memorial Public Library is located at 18 Maine Street\, Kennebunkport. For further information\, please call 967-2778 or visit our website at www.graveslibrary.org.
UID:e.1923.23143
SEQUENCE:3
DTSTAMP:20260421T231953Z
URL:https://chamber.gokennebunks.com/events/details/monthly-movie-night-23143
END:VEVENT

END:VCALENDAR
