BEGIN:VCALENDAR
VERSION:2.0
PRODID:-//ChamberMaster//Event Calendar 2.0//EN
METHOD:PUBLISH
X-PUBLISHED-TTL:P3D
REFRESH-INTERVAL:P3D
CALSCALE:GREGORIAN
BEGIN:VEVENT
DTSTART:20241222T160000Z
DTEND:20241222T170000Z
X-MICROSOFT-CDO-ALLDAYEVENT:FALSE
SUMMARY:mom + me jingle ball
DESCRIPTION:it's the most wonderful time of the year. this class will fulfill all YOUR + YOUR littles (grades K - 3) merriest wishes. get ready to jingle all the way through this class with an epic holiday playlist. bring your sparkle\, mat + water for a fun mom + me style partner yoga class.\n\n\n\nclass is $25 / pair (20% off for sweatTRIBE members)
X-ALT-DESC;FMTTYPE=text/html:<span style="color:rgb(0\, 0\, 0)\; font-family:arial\; font-size:10pt">it&#39\;s the most wonderful time of the year. this class will fulfill all YOUR + YOUR littles (grades K - 3) merriest wishes. get ready to jingle all the way through this class with an epic holiday playlist. bring your sparkle\, mat + water for a fun mom + me style partner yoga class.<br />\n<br />\nclass is $25 / pair (20% off for sweatTRIBE members)</span>
LOCATION:The Daily Sweat 65 Portland Rd Kennebunk\, ME 04043
UID:e.1923.31147
SEQUENCE:3
DTSTAMP:20260421T032456Z
URL:https://chamber.gokennebunks.com/events/details/mom-me-jingle-ball-31147
END:VEVENT

END:VCALENDAR
