BEGIN:VCALENDAR
VERSION:2.0
PRODID:-//ChamberMaster//Event Calendar 2.0//EN
METHOD:PUBLISH
X-PUBLISHED-TTL:P3D
REFRESH-INTERVAL:P3D
CALSCALE:GREGORIAN
BEGIN:VEVENT
DTSTART:20240426T220000Z
DTEND:20240427T000000Z
X-MICROSOFT-CDO-ALLDAYEVENT:FALSE
SUMMARY:Modern Punch Needle Workshop
DESCRIPTION:Make a modern\, fun\, piece of wall art for your home using the craft of punch needle! Choose from a variety of patterns or come up with your own.  Learn the basics and tools\, as well as tips and tricks\, ideas on how to finish your piece\, and the confidence to start new ones on your own.\n\nPunch needle can be a creatively rewarding and therapeutic experience. This craft not only allows you to express your artistic side by creating vibrant and textured designs\, but it also promotes mindfulness and relaxation.\n\nAll materials are included in the price. Materials are yours to keep and bring home including the punch needle\, hoop and yarn.\n\nClass will be led by Sarah DeGrandis of S. Jane Craft.\n\nS. Jane Craft is the work of fiber artist and craft teacher\, Sarah DeGrandis. Sarah is passionate about learning different crafts and using modern\, colorful takes on traditional techniques.
X-ALT-DESC;FMTTYPE=text/html:<p>Make a modern\, fun\, piece of wall art for your home using the craft of punch needle! Choose from a variety of patterns or come up with your own.&nbsp\; Learn the basics and tools\, as well as tips and tricks\, ideas on how to finish your piece\, and the confidence to start new ones on your own.</p>\n\n<p>Punch needle can be a creatively rewarding and therapeutic experience. This craft not only allows you to express your artistic side by creating vibrant and textured designs\, but it also promotes mindfulness and relaxation.</p>\n\n<p>All materials are included in the price. Materials are yours to keep and bring home including the punch needle\, hoop and yarn.</p>\n\n<p>Class will be led by Sarah DeGrandis of S. Jane Craft.</p>\n\n<p>S. Jane Craft is the work of fiber artist and craft teacher\, Sarah DeGrandis. Sarah is passionate about learning different crafts and using modern\, colorful takes on traditional techniques.</p>\n\n<p>&nbsp\;</p>\n
LOCATION:The Creative Soul 2 Christensen Lane Kennebunk\, ME
UID:e.1923.24582
SEQUENCE:3
DTSTAMP:20260421T164016Z
URL:https://chamber.gokennebunks.com/events/details/modern-punch-needle-workshop-04-26-2024-24582
END:VEVENT

END:VCALENDAR
