BEGIN:VCALENDAR
VERSION:2.0
PRODID:-//ChamberMaster//Event Calendar 2.0//EN
METHOD:PUBLISH
X-PUBLISHED-TTL:P3D
REFRESH-INTERVAL:P3D
CALSCALE:GREGORIAN
BEGIN:VEVENT
DTSTART:20240321T220000Z
DTEND:20240425T224500Z
X-MICROSOFT-CDO-ALLDAYEVENT:FALSE
SUMMARY:Mobility Specialty Class
DESCRIPTION:This class will focus on shoulders\, back\, hips\, feet and hands. Optimal mobility promotes good posture\, helps prevent injuries\, relieves tension and improves overall performance. It can help with joint degeneration and builds stronger adaptive muscles and joints. All are welcome\, no experience necessary. Contact Judy@spurlingfitness.com
X-ALT-DESC;FMTTYPE=text/html:This class will focus on shoulders\, back\, hips\, feet and hands. Optimal mobility promotes good posture\, helps prevent injuries\, relieves tension and improves overall performance. It can help with joint degeneration and builds stronger adaptive muscles and joints. All are welcome\, no experience necessary. Contact Judy@spurlingfitness.com
LOCATION:Spurling Fitness 1 Alewive Park Road Kennebunk\, ME 04043
UID:e.1923.24511
SEQUENCE:3
DTSTAMP:20260421T163930Z
URL:https://chamber.gokennebunks.com/events/details/mobility-specialty-class-03-21-2024-24511
END:VEVENT

END:VCALENDAR
