BEGIN:VCALENDAR
VERSION:2.0
PRODID:-//ChamberMaster//Event Calendar 2.0//EN
METHOD:PUBLISH
X-PUBLISHED-TTL:P3D
REFRESH-INTERVAL:P3D
CALSCALE:GREGORIAN
BEGIN:VEVENT
DTSTART:20240414T180000Z
DTEND:20240414T193000Z
X-MICROSOFT-CDO-ALLDAYEVENT:FALSE
SUMMARY:Mixology Class at Ocean
DESCRIPTION:Join us Ocean at Cape Arundel Inn & Resort and learn how to prepare classic cocktails with our skilled bartenders. Learn to infuse your drinks with fresh flavors and create garnishes for stunning sips! Includes three (3) cocktail tastings and light bites to pair with your new creations. Part of Cape Arundel Inn & Resort's programming for Spring Into Summer in Kennebunkport!\n\n\n\nPURCHASE TICKETS\n\nMore Information about Ocean at Cape Arundel Inn & Resort in Kennebunkport\, Maine.\n\n__\n\nClass is open to adults 21 years of age or older. Proper ID is required at door. We look forward to seeing you.
X-ALT-DESC;FMTTYPE=text/html:<p>Join us Ocean at Cape Arundel Inn &amp\; Resort and learn how to prepare classic cocktails with our skilled bartenders. Learn to infuse your drinks with fresh flavors and create garnishes for stunning sips! Includes three (3) cocktail tastings and light bites to pair with your new creations. Part of Cape Arundel Inn &amp\; Resort&#39\;s programming for Spring Into Summer in Kennebunkport!<br />\n<br />\n<a href="https://www.eventbrite.com/cc/mixology-at-ocean-3002569?utm-campaign=social&amp\;utm-content=attendeeshare&amp\;utm-medium=discovery&amp\;utm-term=odclsxcollection&amp\;utm-source=cp&amp\;aff=odclsxcollection"><strong>PURCHASE TICKETS</strong></a></p>\n\n<p>More Information about&nbsp\;<a href="https://capearundelinn.com/dining/" rel="nofollow noopener noreferrer" style="background-color: transparent\; text-decoration-line: none\; color: rgb(54\, 89\, 227)\; cursor: pointer\; box-sizing: border-box\; padding-top: 0px\;" target="_blank" title="https://capearundelinn.com/dining/">Ocean at Cape Arundel Inn &amp\; Resort in Kennebunkport\, Maine</a>.</p>\n\n<p>__</p>\n\n<p><em>Class is open to adults 21 years of age or older. Proper ID is required at door. We look forward to seeing you.</em></p>\n
LOCATION:Ocean Restaurant at Cape Arundel Inn & Resort 208 Ocean Ave Kennebunkport\, Maine 04046
UID:e.1923.24604
SEQUENCE:3
DTSTAMP:20260421T164041Z
URL:https://chamber.gokennebunks.com/events/details/mixology-class-at-ocean-04-14-2024-24604
END:VEVENT

END:VCALENDAR
