BEGIN:VCALENDAR
VERSION:2.0
PRODID:-//ChamberMaster//Event Calendar 2.0//EN
METHOD:PUBLISH
X-PUBLISHED-TTL:P3D
REFRESH-INTERVAL:P3D
CALSCALE:GREGORIAN
BEGIN:VEVENT
DTSTART:20260612T180000Z
DTEND:20260612T200000Z
X-MICROSOFT-CDO-ALLDAYEVENT:FALSE
SUMMARY:Mixology at The Tides Beach Club
DESCRIPTION:Beachfront views\, refreshing cocktails\, and an elevated seaside atmosphere. Discover the art of cocktail-making in this hands-on mixology class featuring three of The Tides Beach Club's favorite creations. Guided by expert bartenders\, you'll learn techniques\, tips\, and tricks to recreate these drinks at home. Part of programming for Spring into Summer in Kennebunkport! Includes: ?? Three (3) Cocktail Tastings ?? Light Bites ?? Take-Home Recipe Card The class warmly welcomes adults who are 21 years of age or older and kindly requests that they bring proper identification upon arrival. We eagerly anticipate your attendance.
X-ALT-DESC;FMTTYPE=text/html:Beachfront views\, refreshing cocktails\, and an elevated seaside atmosphere. Discover the art of cocktail-making in this hands-on mixology class featuring three of The Tides Beach Club&rsquo\;s favorite creations. Guided by expert bartenders\, you&rsquo\;ll learn techniques\, tips\, and tricks to recreate these drinks at home. Part of programming for Spring into Summer in Kennebunkport! Includes: ?? Three (3) Cocktail Tastings ?? Light Bites ?? Take-Home Recipe Card The class warmly welcomes adults who are 21 years of age or older and kindly requests that they bring proper identification upon arrival. We eagerly anticipate your attendance.
LOCATION:The Tides Beach Club 930 Kings Highway Kennebunkport\, ME 04046
UID:e.1923.38961
SEQUENCE:3
DTSTAMP:20260422T021503Z
URL:https://chamber.gokennebunks.com/events/details/mixology-at-the-tides-beach-club-06-12-2026-38961
END:VEVENT

END:VCALENDAR
