BEGIN:VCALENDAR
VERSION:2.0
PRODID:-//ChamberMaster//Event Calendar 2.0//EN
METHOD:PUBLISH
X-PUBLISHED-TTL:P3D
REFRESH-INTERVAL:P3D
CALSCALE:GREGORIAN
BEGIN:VEVENT
DTSTART:20190628T000000Z
DTEND:20190628T023000Z
X-MICROSOFT-CDO-ALLDAYEVENT:FALSE
SUMMARY:Miss Richfield 1981 - Gender Fluids
DESCRIPTION:Miss Richfield is coming back to our stage to make you belly laugh with a whole new show! In her all-new show "Gender Fluids"\, Miss Richfield 1981 will attempt to find non-binary answers to our increasingly complex world! With all new music\, new videos\, new costumes\, and a healthy heap of help from the audience\, this show promises to celebrate all the genders - both old & new.
X-ALT-DESC;FMTTYPE=text/html:Miss Richfield is coming back to our stage to make you belly laugh with a whole new show! In her all-new show &ldquo\;Gender Fluids&ldquo\;\, Miss Richfield 1981 will attempt to find non-binary answers to our increasingly complex world! With all new music\, new videos\, new costumes\, and a healthy heap of help from the audience\, this show promises to celebrate all the genders - both old &amp\; new.
LOCATION:Vinegar Hill Music Theatre 53 Old Post Rd Arundel\, ME 04046
UID:e.1923.11540
SEQUENCE:3
DTSTAMP:20260424T210249Z
URL:https://chamber.gokennebunks.com/events/details/miss-richfield-1981-gender-fluids-11540
END:VEVENT

END:VCALENDAR
