BEGIN:VCALENDAR
VERSION:2.0
PRODID:-//ChamberMaster//Event Calendar 2.0//EN
METHOD:PUBLISH
X-PUBLISHED-TTL:P3D
REFRESH-INTERVAL:P3D
CALSCALE:GREGORIAN
BEGIN:VEVENT
DTSTART:20180629T000000Z
DTEND:20180629T020000Z
X-MICROSOFT-CDO-ALLDAYEVENT:FALSE
SUMMARY:Miss Richfield 1981
DESCRIPTION:Miss Richfield 1981 is fast becoming one of America?s national treasures. This Midwestern maven is winning over theater audiences around the country with an interactive format that combines homespun warmth and edgy improv\, leaving audiences in hysterics. In her all new show\, Miss Richfield 1981 is ?Born Again? finding new religion to bring our divided world together. With all new songs\, videos\, and unique audience activities\, Miss R brings all faiths together in 2018. Atheists welcome!
X-ALT-DESC;FMTTYPE=text/html:Miss Richfield 1981 is fast becoming one of America?s national treasures. This Midwestern maven is winning over theater audiences around the country with an interactive format that combines homespun warmth and edgy improv\, leaving audiences in hysterics. In her all new show\, Miss Richfield 1981 is ?Born Again? finding new religion to bring our divided world together. With all new songs\, videos\, and unique audience activities\, Miss R brings all faiths together in 2018. Atheists welcome!
LOCATION:Vinegar Hill Music Theatre 53 Old Post Rd. Arundel\, ME 04046
UID:e.1923.7163
SEQUENCE:3
DTSTAMP:20260425T143144Z
URL:https://chamber.gokennebunks.com/events/details/miss-richfield-1981-7163
END:VEVENT

END:VCALENDAR
